BEGIN:VCALENDAR
VERSION:2.0
PRODID:-//ETA - ECPv6.15.14//NONSGML v1.0//EN
CALSCALE:GREGORIAN
METHOD:PUBLISH
X-WR-CALNAME:ETA
X-ORIGINAL-URL:https://www.e-techasia.com
X-WR-CALDESC:Events for ETA
REFRESH-INTERVAL;VALUE=DURATION:PT1H
X-Robots-Tag:noindex
X-PUBLISHED-TTL:PT1H
BEGIN:VTIMEZONE
TZID:Asia/Shanghai
BEGIN:STANDARD
TZOFFSETFROM:+0800
TZOFFSETTO:+0800
TZNAME:CST
DTSTART:20240101T000000
END:STANDARD
END:VTIMEZONE
BEGIN:VEVENT
DTSTART;VALUE=DATE:20250121
DTEND;VALUE=DATE:20250126
DTSTAMP:20260426T050822
CREATED:20230410T055010Z
LAST-MODIFIED:20250113T041511Z
UID:9122-1737417600-1737849599@www.e-techasia.com
SUMMARY:The NAMM Show
DESCRIPTION:
URL:https://www.e-techasia.com/event/the-2023-namm-show/
LOCATION:Anaheim Convention Centre\, 800 W Katella Ave\, Anaheim\, 92802\, United States
CATEGORIES:Exhibitions
END:VEVENT
END:VCALENDAR